BEGIN:VCALENDAR
VERSION:2.0
PRODID:-//Rocky Mountain Freedom Training - ECPv6.15.20//NONSGML v1.0//EN
CALSCALE:GREGORIAN
METHOD:PUBLISH
X-WR-CALNAME:Rocky Mountain Freedom Training
X-ORIGINAL-URL:https://gormft.com
X-WR-CALDESC:Events for Rocky Mountain Freedom Training
REFRESH-INTERVAL;VALUE=DURATION:PT1H
X-Robots-Tag:noindex
X-PUBLISHED-TTL:PT1H
BEGIN:VTIMEZONE
TZID:America/Denver
BEGIN:DAYLIGHT
TZOFFSETFROM:-0700
TZOFFSETTO:-0600
TZNAME:MDT
DTSTART:20240310T090000
END:DAYLIGHT
BEGIN:STANDARD
TZOFFSETFROM:-0600
TZOFFSETTO:-0700
TZNAME:MST
DTSTART:20241103T080000
END:STANDARD
BEGIN:DAYLIGHT
TZOFFSETFROM:-0700
TZOFFSETTO:-0600
TZNAME:MDT
DTSTART:20250309T090000
END:DAYLIGHT
BEGIN:STANDARD
TZOFFSETFROM:-0600
TZOFFSETTO:-0700
TZNAME:MST
DTSTART:20251102T080000
END:STANDARD
BEGIN:DAYLIGHT
TZOFFSETFROM:-0700
TZOFFSETTO:-0600
TZNAME:MDT
DTSTART:20260308T090000
END:DAYLIGHT
BEGIN:STANDARD
TZOFFSETFROM:-0600
TZOFFSETTO:-0700
TZNAME:MST
DTSTART:20261101T080000
END:STANDARD
END:VTIMEZONE
BEGIN:VEVENT
DTSTART;TZID=America/Denver:20250724T130000
DTEND;TZID=America/Denver:20250724T150000
DTSTAMP:20260421T201011
CREATED:20250716T011047Z
LAST-MODIFIED:20250716T011047Z
UID:10000070-1753362000-1753369200@gormft.com
SUMMARY:Introduction To Firearms
DESCRIPTION:Foundational firearm training class designed for new shooters\, providing comprehensive instruction on safe handling\, basic operation\, and shooting fundamentals of a pistol\, including classroom learning on firearm safety rules\, parts identification\, ammunition selection\, and virtual range time to practice grip\, stance\, sight alignment\, and trigger control\, with the goal of building confidence in handling a handgun responsibly.
URL:https://gormft.com/class/introduction-to-firearms7-24-25/
LOCATION:Freedom Training Center\, 8821 E Hampden Ave Suite 102 or 117\, Denver\, CO\, 80231\, United States
CATEGORIES:Introduction To Firearms
ATTACH;FMTTYPE=image/png:https://gormft.com/wp-content/uploads/2025/01/Rocky-Mountain-Freedom-Training-Intro-To-Firearms.png
END:VEVENT
END:VCALENDAR