BEGIN:VCALENDAR
VERSION:2.0
PRODID:-//Rocky Mountain Freedom Training - ECPv6.15.20//NONSGML v1.0//EN
CALSCALE:GREGORIAN
METHOD:PUBLISH
X-WR-CALNAME:Rocky Mountain Freedom Training
X-ORIGINAL-URL:https://gormft.com
X-WR-CALDESC:Events for Rocky Mountain Freedom Training
REFRESH-INTERVAL;VALUE=DURATION:PT1H
X-Robots-Tag:noindex
X-PUBLISHED-TTL:PT1H
BEGIN:VTIMEZONE
TZID:America/Denver
BEGIN:DAYLIGHT
TZOFFSETFROM:-0700
TZOFFSETTO:-0600
TZNAME:MDT
DTSTART:20240310T090000
END:DAYLIGHT
BEGIN:STANDARD
TZOFFSETFROM:-0600
TZOFFSETTO:-0700
TZNAME:MST
DTSTART:20241103T080000
END:STANDARD
BEGIN:DAYLIGHT
TZOFFSETFROM:-0700
TZOFFSETTO:-0600
TZNAME:MDT
DTSTART:20250309T090000
END:DAYLIGHT
BEGIN:STANDARD
TZOFFSETFROM:-0600
TZOFFSETTO:-0700
TZNAME:MST
DTSTART:20251102T080000
END:STANDARD
BEGIN:DAYLIGHT
TZOFFSETFROM:-0700
TZOFFSETTO:-0600
TZNAME:MDT
DTSTART:20260308T090000
END:DAYLIGHT
BEGIN:STANDARD
TZOFFSETFROM:-0600
TZOFFSETTO:-0700
TZNAME:MST
DTSTART:20261101T080000
END:STANDARD
END:VTIMEZONE
BEGIN:VEVENT
DTSTART;TZID=America/Denver:20251101T163000
DTEND;TZID=America/Denver:20251101T183000
DTSTAMP:20260419T221512
CREATED:20251014T161053Z
LAST-MODIFIED:20251027T173716Z
UID:10000114-1762014600-1762021800@gormft.com
SUMMARY:**Start of Nov Sale**Refresher/Renewal Colorado Concealed Carry
DESCRIPTION:This Class is compliant with HB 24-1174 and all instructors teaching this class are verified by their required County Sheriff.   \nAre you looking to renew your Colorado concealed carry permit? Look no further! Our 5 star rated instructors offer comprehensive concealed carry classes that will teach you the skills and knowledge you need to safely and responsibly carry concealed. These are not the stereotypical grumpy old crotchety firearms instructors. \nOur team is fun\, upbeat and engaging with decades of real-world experience that you can apply immediately to be safer and more confident. Our classes are open to individuals of all backgrounds and experience levels. When you finish the class\, you will receive a certificate of completion to take down to your local sheriff’s office to apply for your permit allowing you to legally carry in 37 States. Sign up today and take the first step towards protecting yourself and your loved ones. \nClass Overview: \n\n1-1.5 Hrs Classroom instruction at Courtyard by Marriott Denver/Aurora (255 North Blackhawk St. Aurora\, CO 80011)\n.5-1 Hrs Shooting Qualification at Shoot Indoors Buckley (1310 S. Abilene St. Aurora\, CO 80012)\n\n*If you need to rent a gun/ammo Shoot Indoors offers a bundle for Firearm Rental and 50 Rounds of ammo for $30.00 \n*There may be an additional charge for Eyes and Ear protection \nWhat to Bring: \n\nPhoto ID\nEye protection\nEar protection\nFirearm\nMin. 50 Rounds of ammo (if you bring your own gun)
URL:https://gormft.com/class/refresher-renewal-colorado-concealed-carry11-1-25/
LOCATION:Courtyard by Mariott Denver/Aurora\, 255 North Blackhawk St\, Aurora\, CO\, 80011\, United States
CATEGORIES:Concealed Carry Renewal
ATTACH;FMTTYPE=image/png:https://gormft.com/wp-content/uploads/2025/01/Rocky-Mountain-Freedom-Training-Concealed-Carry-Classes.png
END:VEVENT
BEGIN:VEVENT
DTSTART;TZID=America/Denver:20251106T110000
DTEND;TZID=America/Denver:20251106T130000
DTSTAMP:20260419T221512
CREATED:20251020T205209Z
LAST-MODIFIED:20251020T205209Z
UID:10000117-1762426800-1762434000@gormft.com
SUMMARY:*Lunchtime* Refresher/Renewal Colorado Concealed Carry
DESCRIPTION:This Class is compliant with HB 24-1174 and all instructors teaching this class are verified by their required County Sheriff.   \nAre you looking to renew your Colorado concealed carry permit? Look no further! Our 5 star rated instructors offer comprehensive concealed carry classes that will teach you the skills and knowledge you need to safely and responsibly carry concealed. These are not the stereotypical grumpy old crotchety firearms instructors. \nOur team is fun\, upbeat and engaging with decades of real-world experience that you can apply immediately to be safer and more confident. Our classes are open to individuals of all backgrounds and experience levels. When you finish the class\, you will receive a certificate of completion to take down to your local sheriff’s office to apply for your permit allowing you to legally carry in 37 States. Sign up today and take the first step towards protecting yourself and your loved ones. \nClass Overview: \n\n1.5-2 Hrs Classroom instruction at Shoot Indoors Buckley (1310 S. Abilene St. Aurora\, CO 80012)\n1 Hr Shooting Qualification at range\n\n*If you need to rent a gun/ammo Shoot Indoors offers a bundle for Firearm Rental and 50 Rounds of ammo for $30.00 \n*There may be an additional charge for Eyes and Ear protection \nWhat to Bring: \n\nPhoto ID\nEye protection\nEar protection\nFirearm\nMin. 50 Rounds of ammo (if you bring your own gun)
URL:https://gormft.com/class/lunchtime-refresher-renewal-colorado-concealed-carry-11-6-25/
LOCATION:Shoot Indoors- Buckley\, 1310 S Abilene St\, Aurora\, 80012\, United States
CATEGORIES:Concealed Carry Renewal
ATTACH;FMTTYPE=image/png:https://gormft.com/wp-content/uploads/2025/01/Rocky-Mountain-Freedom-Training-Concealed-Carry-Classes.png
END:VEVENT
BEGIN:VEVENT
DTSTART;TZID=America/Denver:20251109T150000
DTEND;TZID=America/Denver:20251109T173000
DTSTAMP:20260419T221512
CREATED:20251014T160606Z
LAST-MODIFIED:20251014T160606Z
UID:10000112-1762700400-1762709400@gormft.com
SUMMARY:*Northern Colorado* Refresher/Renewal Colorado Concealed Carry
DESCRIPTION:This Class is compliant with HB 24-1174 and all instructors teaching this class are verified by their required County Sheriff.   \nAre you looking to renew your Colorado concealed carry permit? Look no further! Our 5 star rated instructors offer comprehensive concealed carry classes that will teach you the skills and knowledge you need to safely and responsibly carry concealed. These are not the stereotypical grumpy old crotchety firearms instructors. \nOur team is fun\, upbeat and engaging with decades of real-world experience that you can apply immediately to be safer and more confident. Our classes are open to individuals of all backgrounds and experience levels. When you finish the class\, you will receive a certificate of completion to take down to your local sheriff’s office to apply for your permit allowing you to legally carry in 37 States. Sign up today and take the first step towards protecting yourself and your loved ones. \nClass Overview: \n\n1.5-2 Hrs Classroom instruction at Longmont PD Range- 10916 County Road 5 (Hwy 119 and CR 5\, 1/2 mile south of Hwy 119) Building 3 for Classroom \n1-2 Hrs Shooting Qualification at Longmont PD Range- 10916 County Road 5 (Hwy 119 and CR 5\, 1/2 mile south of Hwy 119)\nNOTE: entrance is just to the west of the tower on CR 5\n\n*If you need to rent a gun/ammo we offer a bundle for Firearm Rental and 50 Rounds of ammo for $50.00 \n*There may be an additional charge for Eyes and Ear protection \nWhat to Bring: \n\nPhoto ID\nEye protection\nEar protection\nFirearm\nMin. 50 Rounds of ammo (if you bring your own gun)
URL:https://gormft.com/class/northern-colorado-refresher-renewal-colorado-concealed-carry11-9-25/
LOCATION:Longmont PD Range/Classroom\, 10916 County Road 5\, Longmont\, 80504\, United States
CATEGORIES:Concealed Carry Renewal
ATTACH;FMTTYPE=image/png:https://gormft.com/wp-content/uploads/2025/01/Rocky-Mountain-Freedom-Training-Concealed-Carry-Classes.png
END:VEVENT
BEGIN:VEVENT
DTSTART;TZID=America/Denver:20251113T110000
DTEND;TZID=America/Denver:20251113T130000
DTSTAMP:20260419T221512
CREATED:20251020T205256Z
LAST-MODIFIED:20251104T182803Z
UID:10000118-1763031600-1763038800@gormft.com
SUMMARY:*Lunchtime* Refresher/Renewal Colorado Concealed Carry
DESCRIPTION:This Class is compliant with HB 24-1174 and all instructors teaching this class are verified by their required County Sheriff.   \nAre you looking to renew your Colorado concealed carry permit? Look no further! Our 5 star rated instructors offer comprehensive concealed carry classes that will teach you the skills and knowledge you need to safely and responsibly carry concealed. These are not the stereotypical grumpy old crotchety firearms instructors. \nOur team is fun\, upbeat and engaging with decades of real-world experience that you can apply immediately to be safer and more confident. Our classes are open to individuals of all backgrounds and experience levels. When you finish the class\, you will receive a certificate of completion to take down to your local sheriff’s office to apply for your permit allowing you to legally carry in 37 States. Sign up today and take the first step towards protecting yourself and your loved ones. \nClass Overview: \n\n1.5-2 Hrs Classroom instruction at Shoot Indoors Buckley (1310 S. Abilene St. Aurora\, CO 80012)\n1 Hr Shooting Qualification at range\n\n*If you need to rent a gun/ammo Shoot Indoors offers a bundle for Firearm Rental and 50 Rounds of ammo for $30.00 \n*There may be an additional charge for Eyes and Ear protection \nWhat to Bring: \n\nPhoto ID\nEye protection\nEar protection\nFirearm\nMin. 50 Rounds of ammo (if you bring your own gun)
URL:https://gormft.com/class/lunchtime-refresher-renewal-colorado-concealed-carry-11-13-25/
LOCATION:Shoot Indoors- Buckley\, 1310 S Abilene St\, Aurora\, 80012\, United States
CATEGORIES:Concealed Carry Renewal
ATTACH;FMTTYPE=image/png:https://gormft.com/wp-content/uploads/2025/01/Rocky-Mountain-Freedom-Training-Concealed-Carry-Classes.png
END:VEVENT
BEGIN:VEVENT
DTSTART;TZID=America/Denver:20251115T163000
DTEND;TZID=America/Denver:20251115T183000
DTSTAMP:20260419T221512
CREATED:20251014T161232Z
LAST-MODIFIED:20251014T161232Z
UID:10000115-1763224200-1763231400@gormft.com
SUMMARY:Refresher/Renewal Colorado Concealed Carry
DESCRIPTION:This Class is compliant with HB 24-1174 and all instructors teaching this class are verified by their required County Sheriff.   \nAre you looking to renew your Colorado concealed carry permit? Look no further! Our 5 star rated instructors offer comprehensive concealed carry classes that will teach you the skills and knowledge you need to safely and responsibly carry concealed. These are not the stereotypical grumpy old crotchety firearms instructors. \nOur team is fun\, upbeat and engaging with decades of real-world experience that you can apply immediately to be safer and more confident. Our classes are open to individuals of all backgrounds and experience levels. When you finish the class\, you will receive a certificate of completion to take down to your local sheriff’s office to apply for your permit allowing you to legally carry in 37 States. Sign up today and take the first step towards protecting yourself and your loved ones. \nClass Overview: \n\n1-1.5 Hrs Classroom instruction at Courtyard by Marriott Denver/Aurora (255 North Blackhawk St. Aurora\, CO 80011)\n.5-1 Hrs Shooting Qualification at Shoot Indoors Buckley (1310 S. Abilene St. Aurora\, CO 80012)\n\n*If you need to rent a gun/ammo Shoot Indoors offers a bundle for Firearm Rental and 50 Rounds of ammo for $30.00 \n*There may be an additional charge for Eyes and Ear protection \nWhat to Bring: \n\nPhoto ID\nEye protection\nEar protection\nFirearm\nMin. 50 Rounds of ammo (if you bring your own gun)
URL:https://gormft.com/class/refresher-renewal-colorado-concealed-carry11-15-25/
LOCATION:Courtyard by Mariott Denver/Aurora\, 255 North Blackhawk St\, Aurora\, CO\, 80011\, United States
CATEGORIES:Concealed Carry Renewal
ATTACH;FMTTYPE=image/png:https://gormft.com/wp-content/uploads/2025/01/Rocky-Mountain-Freedom-Training-Concealed-Carry-Classes.png
END:VEVENT
BEGIN:VEVENT
DTSTART;TZID=America/Denver:20251116T150000
DTEND;TZID=America/Denver:20251116T173000
DTSTAMP:20260419T221512
CREATED:20251014T160708Z
LAST-MODIFIED:20251014T160708Z
UID:10000113-1763305200-1763314200@gormft.com
SUMMARY:*Northern Colorado* Refresher/Renewal Colorado Concealed Carry
DESCRIPTION:This Class is compliant with HB 24-1174 and all instructors teaching this class are verified by their required County Sheriff.   \nAre you looking to renew your Colorado concealed carry permit? Look no further! Our 5 star rated instructors offer comprehensive concealed carry classes that will teach you the skills and knowledge you need to safely and responsibly carry concealed. These are not the stereotypical grumpy old crotchety firearms instructors. \nOur team is fun\, upbeat and engaging with decades of real-world experience that you can apply immediately to be safer and more confident. Our classes are open to individuals of all backgrounds and experience levels. When you finish the class\, you will receive a certificate of completion to take down to your local sheriff’s office to apply for your permit allowing you to legally carry in 37 States. Sign up today and take the first step towards protecting yourself and your loved ones. \nClass Overview: \n\n1.5-2 Hrs Classroom instruction at Longmont PD Range- 10916 County Road 5 (Hwy 119 and CR 5\, 1/2 mile south of Hwy 119) Building 3 for Classroom \n1-2 Hrs Shooting Qualification at Longmont PD Range- 10916 County Road 5 (Hwy 119 and CR 5\, 1/2 mile south of Hwy 119)\nNOTE: entrance is just to the west of the tower on CR 5\n\n*If you need to rent a gun/ammo we offer a bundle for Firearm Rental and 50 Rounds of ammo for $50.00 \n*There may be an additional charge for Eyes and Ear protection \nWhat to Bring: \n\nPhoto ID\nEye protection\nEar protection\nFirearm\nMin. 50 Rounds of ammo (if you bring your own gun)
URL:https://gormft.com/class/northern-colorado-refresher-renewal-colorado-concealed-carry11-16-25/
LOCATION:Longmont PD Range/Classroom\, 10916 County Road 5\, Longmont\, 80504\, United States
CATEGORIES:Concealed Carry Renewal
ATTACH;FMTTYPE=image/png:https://gormft.com/wp-content/uploads/2025/01/Rocky-Mountain-Freedom-Training-Concealed-Carry-Classes.png
END:VEVENT
BEGIN:VEVENT
DTSTART;TZID=America/Denver:20251120T180000
DTEND;TZID=America/Denver:20251120T200000
DTSTAMP:20260419T221512
CREATED:20251020T205403Z
LAST-MODIFIED:20251020T205403Z
UID:10000119-1763661600-1763668800@gormft.com
SUMMARY:Refresher/Renewal Colorado Concealed Carry
DESCRIPTION:This Class is compliant with HB 24-1174 and all instructors teaching this class are verified by their required County Sheriff.   \nAre you looking to renew your Colorado concealed carry permit? Look no further! Our 5 star rated instructors offer comprehensive concealed carry classes that will teach you the skills and knowledge you need to safely and responsibly carry concealed. These are not the stereotypical grumpy old crotchety firearms instructors. \nOur team is fun\, upbeat and engaging with decades of real-world experience that you can apply immediately to be safer and more confident. Our classes are open to individuals of all backgrounds and experience levels. When you finish the class\, you will receive a certificate of completion to take down to your local sheriff’s office to apply for your permit allowing you to legally carry in 37 States. Sign up today and take the first step towards protecting yourself and your loved ones. \nClass Overview: \n\n1.5-2 Hrs Classroom instruction at Shoot Indoors Buckley (1310 S. Abilene St. Aurora\, CO 80012)\n1 Hr Shooting Qualification at range\n\n*If you need to rent a gun/ammo Shoot Indoors offers a bundle for Firearm Rental and 50 Rounds of ammo for $30.00 \n*There may be an additional charge for Eyes and Ear protection \nWhat to Bring: \n\nPhoto ID\nEye protection\nEar protection\nFirearm\nMin. 50 Rounds of ammo (if you bring your own gun)
URL:https://gormft.com/class/refresher-renewal-colorado-concealed-carry11-20-25/
LOCATION:Shoot Indoors- Buckley\, 1310 S Abilene St\, Aurora\, 80012\, United States
CATEGORIES:Concealed Carry Renewal
ATTACH;FMTTYPE=image/png:https://gormft.com/wp-content/uploads/2025/01/Rocky-Mountain-Freedom-Training-Concealed-Carry-Classes.png
END:VEVENT
BEGIN:VEVENT
DTSTART;TZID=America/Denver:20251123T163000
DTEND;TZID=America/Denver:20251123T183000
DTSTAMP:20260419T221512
CREATED:20251103T155423Z
LAST-MODIFIED:20251103T155423Z
UID:10000123-1763915400-1763922600@gormft.com
SUMMARY:Refresher/Renewal Colorado Concealed Carry
DESCRIPTION:This Class is compliant with HB 24-1174 and all instructors teaching this class are verified by their required County Sheriff.   \nAre you looking to renew your Colorado concealed carry permit? Look no further! Our 5 star rated instructors offer comprehensive concealed carry classes that will teach you the skills and knowledge you need to safely and responsibly carry concealed. These are not the stereotypical grumpy old crotchety firearms instructors. \nOur team is fun\, upbeat and engaging with decades of real-world experience that you can apply immediately to be safer and more confident. Our classes are open to individuals of all backgrounds and experience levels. When you finish the class\, you will receive a certificate of completion to take down to your local sheriff’s office to apply for your permit allowing you to legally carry in 37 States. Sign up today and take the first step towards protecting yourself and your loved ones. \nClass Overview: \n\n1-1.5 Hrs Classroom instruction at Courtyard by Marriott Denver/Aurora (255 North Blackhawk St. Aurora\, CO 80011)\n.5-1 Hrs Shooting Qualification at Shoot Indoors Buckley (1310 S. Abilene St. Aurora\, CO 80012)\n\n*If you need to rent a gun/ammo Shoot Indoors offers a bundle for Firearm Rental and 50 Rounds of ammo for $30.00 \n*There may be an additional charge for Eyes and Ear protection \nWhat to Bring: \n\nPhoto ID\nEye protection\nEar protection\nFirearm\nMin. 50 Rounds of ammo (if you bring your own gun)
URL:https://gormft.com/class/refresher-renewal-colorado-concealed-carry11-23-25/
LOCATION:Courtyard by Mariott Denver/Aurora\, 255 North Blackhawk St\, Aurora\, CO\, 80011\, United States
CATEGORIES:Concealed Carry Renewal
ATTACH;FMTTYPE=image/png:https://gormft.com/wp-content/uploads/2025/01/Rocky-Mountain-Freedom-Training-Concealed-Carry-Classes.png
END:VEVENT
BEGIN:VEVENT
DTSTART;TZID=America/Denver:20251129T163000
DTEND;TZID=America/Denver:20251129T183000
DTSTAMP:20260419T221512
CREATED:20251014T161310Z
LAST-MODIFIED:20251014T161310Z
UID:10000116-1764433800-1764441000@gormft.com
SUMMARY:Refresher/Renewal Colorado Concealed Carry
DESCRIPTION:This Class is compliant with HB 24-1174 and all instructors teaching this class are verified by their required County Sheriff.   \nAre you looking to renew your Colorado concealed carry permit? Look no further! Our 5 star rated instructors offer comprehensive concealed carry classes that will teach you the skills and knowledge you need to safely and responsibly carry concealed. These are not the stereotypical grumpy old crotchety firearms instructors. \nOur team is fun\, upbeat and engaging with decades of real-world experience that you can apply immediately to be safer and more confident. Our classes are open to individuals of all backgrounds and experience levels. When you finish the class\, you will receive a certificate of completion to take down to your local sheriff’s office to apply for your permit allowing you to legally carry in 37 States. Sign up today and take the first step towards protecting yourself and your loved ones. \nClass Overview: \n\n1-1.5 Hrs Classroom instruction at Courtyard by Marriott Denver/Aurora (255 North Blackhawk St. Aurora\, CO 80011)\n.5-1 Hrs Shooting Qualification at Shoot Indoors Buckley (1310 S. Abilene St. Aurora\, CO 80012)\n\n*If you need to rent a gun/ammo Shoot Indoors offers a bundle for Firearm Rental and 50 Rounds of ammo for $30.00 \n*There may be an additional charge for Eyes and Ear protection \nWhat to Bring: \n\nPhoto ID\nEye protection\nEar protection\nFirearm\nMin. 50 Rounds of ammo (if you bring your own gun)
URL:https://gormft.com/class/refresher-renewal-colorado-concealed-carry11-29-25/
LOCATION:Courtyard by Mariott Denver/Aurora\, 255 North Blackhawk St\, Aurora\, CO\, 80011\, United States
CATEGORIES:Concealed Carry Renewal
ATTACH;FMTTYPE=image/png:https://gormft.com/wp-content/uploads/2025/01/Rocky-Mountain-Freedom-Training-Concealed-Carry-Classes.png
END:VEVENT
END:VCALENDAR